BEGIN:VCALENDAR
VERSION:2.0
PRODID:-//AutismMVP - ECPv6.15.20//NONSGML v1.0//EN
CALSCALE:GREGORIAN
METHOD:PUBLISH
X-WR-CALNAME:AutismMVP
X-ORIGINAL-URL:https://autismmvp.org
X-WR-CALDESC:Events for AutismMVP
REFRESH-INTERVAL;VALUE=DURATION:PT1H
X-Robots-Tag:noindex
X-PUBLISHED-TTL:PT1H
BEGIN:VTIMEZONE
TZID:UTC
BEGIN:STANDARD
TZOFFSETFROM:+0000
TZOFFSETTO:+0000
TZNAME:UTC
DTSTART:20250101T000000
END:STANDARD
END:VTIMEZONE
BEGIN:VEVENT
DTSTART;TZID=UTC:20260501T180000
DTEND;TZID=UTC:20260501T210000
DTSTAMP:20260422T095659
CREATED:20260323T161259Z
LAST-MODIFIED:20260411T163819Z
UID:1150-1777658400-1777669200@autismmvp.org
SUMMARY:9th Annual Brewing Awareness for Autism
DESCRIPTION:Fun\, Friday Fundraiser for our Scholarship Programs! \nJoin us for this fun fundraiser as we raise money to support future autism professionals! Food\, drink and Friday night fun (6-9 p.m.)\, all for a great cause at Bakes Brewing Co. in Belmar! \nEven though we are spilling into May this year\, this is one of our key fundraisers held in conjunction with Autism Awareness Month! All proceeds from this and our other events go to our scholarship programs that benefit graduate students in autism studies/Applied Behavior Analysis. To date\, we have donated more than $300\,000 in scholarships to support graduate students at Monmouth University\, Rutgers University and Temple University. \nSame great event at a fun\, new hot spot- Bakes Brewing Co. in Belmar\, NJ! \nJoin us for one of our favorite nights of the year as the Autism MVP Foundation proudly hosts our 9th Annual Brewing Awareness for Autism! \n📅 Friday\, May 1\n⏰ 6:00 – 9:00 PM\n📍 Bakes Brewing Co.\, Belmar\, NJ \nCome experience Belmar’s hot new brewery while supporting a mission that changes lives. This high-energy evening brings together community members\, supporters\, and friends for a great cause in a relaxed\, social atmosphere. \nYour ticket includes: \n\nDelicious food\n🍺 Two drink tickets (redeemable for Bakes Brewing Co. beer or wine provided by us)\nAn opportunity to support autism programs and our scholarship programs. To date\, we have donated more than $300\,000 to scholarship funds at Monmouth\, Rutgers and Temple\, and awarded dozens of scholarships! This event will help fund this $100\,000 scholarship program at Rutgers!\n\n💲 $65 in advance\n💲 $75 day of/at the door \nWhether you’re reconnecting with friends\, networking\, or just enjoying a great night out to support a great cause\, your support is greatly appreciated! \n👉 Spots will go quickly—secure your ticket today and help us continue to make an impact. \nMany thanks to our sponsors Circle Hyundai\, which is making a donation for every new car sold during the month of April\, our friends at CentralReach and our media partner 94.3 The Point.  \nAdditional sponsorship opportunities are available by contacting the Autism MVP Foundation at 732-870-7977 or via email at kgreen @ autismmvp.org. \nFor more info on our organization\, visit www.autismmvp.org. \nThank you!
URL:https://givebutter.com/9th-annual-brewing-awareness-for-autism-autism-mvp
LOCATION:Bakes Brewing Co\, 1718 NJ-71\, Belmar\, NJ\, 07719\, United States
ATTACH;FMTTYPE=image/png:https://autismmvp.org/wp-content/uploads/2026/03/9th-Annual-Brewing-Awareness.png
ORGANIZER;CN="Autism MVP":MAILTO:kgreen@autismmvp.org
END:VEVENT
END:VCALENDAR